BEGIN:VCALENDAR
VERSION:2.0
PRODID:-//Gerry Tully - ECPv6.15.20//NONSGML v1.0//EN
CALSCALE:GREGORIAN
METHOD:PUBLISH
X-WR-CALNAME:Gerry Tully
X-ORIGINAL-URL:https://gerrytully.ie
X-WR-CALDESC:Events for Gerry Tully
REFRESH-INTERVAL;VALUE=DURATION:PT1H
X-Robots-Tag:noindex
X-PUBLISHED-TTL:PT1H
BEGIN:VTIMEZONE
TZID:UTC
BEGIN:STANDARD
TZOFFSETFROM:+0000
TZOFFSETTO:+0000
TZNAME:UTC
DTSTART:20250101T000000
END:STANDARD
END:VTIMEZONE
BEGIN:VEVENT
DTSTART;TZID=UTC:20260508T200000
DTEND;TZID=UTC:20260508T200000
DTSTAMP:20260420T005057
CREATED:20260312T110551Z
LAST-MODIFIED:20260402T000934Z
UID:3215-1778270400-1778270400@gerrytully.ie
SUMMARY:The Civic Theatre Gerry Tully Sings The Christy Moore Songbook
DESCRIPTION:The Studio Space. Limited seating. Book early!
URL:https://gerrytully.ie/event/the-civic-theatre/
LOCATION:The Civic Theatre\, Tallaght\, Tallaght\, Dublin 24\, Ireland
CATEGORIES:Gerry Tully Sings The Christy Moore Songbook
END:VEVENT
BEGIN:VEVENT
DTSTART;TZID=UTC:20260801T200000
DTEND;TZID=UTC:20260801T223000
DTSTAMP:20260420T005057
CREATED:20260312T113815Z
LAST-MODIFIED:20260402T001429Z
UID:3221-1785614400-1785623400@gerrytully.ie
SUMMARY:Sea Church\, Ballycotton - Gerry Tully Sings The Christy Moore Songbook
DESCRIPTION:Limited seating book early!
URL:https://gerrytully.ie/event/sea-church-ballycotton/
LOCATION:Sea Church\, 1 MAIN ST\, BALLYCOTTON\,\, Cork\, P25 XP03\, Ireland
CATEGORIES:Gerry Tully Sings The Christy Moore Songbook
ORGANIZER;CN="Lonelyboymusic":MAILTO:info@lonelyboymusic.me
END:VEVENT
END:VCALENDAR