BEGIN:VCALENDAR
VERSION:2.0
PRODID:-//Gerry Tully - ECPv6.15.20//NONSGML v1.0//EN
CALSCALE:GREGORIAN
METHOD:PUBLISH
X-WR-CALNAME:Gerry Tully
X-ORIGINAL-URL:https://gerrytully.ie
X-WR-CALDESC:Events for Gerry Tully
REFRESH-INTERVAL;VALUE=DURATION:PT1H
X-Robots-Tag:noindex
X-PUBLISHED-TTL:PT1H
BEGIN:VTIMEZONE
TZID:UTC
BEGIN:STANDARD
TZOFFSETFROM:+0000
TZOFFSETTO:+0000
TZNAME:UTC
DTSTART:20240101T000000
END:STANDARD
END:VTIMEZONE
BEGIN:VEVENT
DTSTART;TZID=UTC:20260404T200000
DTEND;TZID=UTC:20260404T223000
DTSTAMP:20260420T205629
CREATED:20260209T124031Z
LAST-MODIFIED:20260402T001114Z
UID:3198-1775332800-1775341800@gerrytully.ie
SUMMARY:Presentation Arts Centre
DESCRIPTION:Gerry Tully performs a plethora of songs from Christy Moore’s expansive songbook. Including many anthems\, such as\, Back Home in Derry to the wistful Cliffs of Dooneen\, and from Nancy Spain to Viva La Quinta Brigada. Gerry Tully has well-honed versions that he has made his own over forth years as a solo performer. \n\n\n\nWith an easy-going stage presence and genuine passion for music\, Gerry is a natural story-teller sharing insights and anecdotes about his life in music\, and explaining the cultural and historical background and meanings behind many of the songs. \n\n\n\nHis performance is a heartfelt compliment to the music of one of Ireland’s greatest folk artists\, staying true to the spirit of the songs while adding subtle interpretations and a fresh walk through Moore’s music.
URL:https://gerrytully.ie/event/presentation-arts-centre/
LOCATION:Presentation Arts Centre\, Convent Road\, Enniscorthy\, Wexford\, Y21 X889\, Ireland
CATEGORIES:Gerry Tully Sings The Christy Moore Songbook
ORGANIZER;CN="Little Apples Management":MAILTO:eugene@littleapplesmanagement.com
END:VEVENT
BEGIN:VEVENT
DTSTART;TZID=UTC:20260307T200000
DTEND;TZID=UTC:20260307T223000
DTSTAMP:20260420T205629
CREATED:20260209T113628Z
LAST-MODIFIED:20260209T134254Z
UID:3192-1772913600-1772922600@gerrytully.ie
SUMMARY:Sirus Arts
DESCRIPTION:Gerry Tully performs a plethora of songs from Christy Moore’s expansive songbook. Including many anthems\, such as\, Back Home in Derry to the wistful Cliffs of Dooneen\, and from Nancy Spain to Viva La Quinta Brigada. Gerry Tully has well-honed versions that he has made his own over forth years as a solo performer. \n\n\n\nWith an easy-going stage presence and genuine passion for music\, Gerry is a natural story-teller sharing insights and anecdotes about his life in music\, and explaining the cultural and historical background and meanings behind many of the songs. \n\n\n\nHis performance is a heartfelt compliment to the music of one of Ireland’s greatest folk artists\, staying true to the spirit of the songs while adding subtle interpretations and a fresh walk through Moore’s music.
URL:https://gerrytully.ie/event/sirus-arts/
LOCATION:Sirus Arts\, The Old Yacht Club\, Westbourne Place\, Cobh\, Co. Cork\, Cork\, P24 F209\, Ireland
ATTACH;FMTTYPE=image/jpeg:https://gerrytully.ie/wp-content/uploads/2025/10/IMG_3693-Small.jpeg
ORGANIZER;CN="Little Apples Management":MAILTO:eugene@littleapplesmanagement.com
END:VEVENT
BEGIN:VEVENT
DTSTART;TZID=UTC:20260306T200000
DTEND;TZID=UTC:20260306T223000
DTSTAMP:20260420T205629
CREATED:20260209T111546Z
LAST-MODIFIED:20260209T125326Z
UID:3186-1772827200-1772836200@gerrytully.ie
SUMMARY:Briery Gap
DESCRIPTION:Gerry Tully performs a plethora of songs from Christy Moore’s expansive songbook. Including many anthems\, such as\, Back Home in Derry to the wistful Cliffs of Dooneen\, and from Nancy Spain to Viva La Quinta Brigada. Gerry Tully has well-honed versions that he has made his own over forth years as a solo performer.  \n\n\n\nWith an easy-going stage presence and genuine passion for music\, Gerry is a natural story-teller sharing insights and anecdotes about his life in music\, and explaining the cultural and historical background and meanings behind many of the songs. \n\n\n\nHis performance is a heartfelt compliment to the music of one of Ireland’s greatest folk artists\, staying true to the spirit of the songs while adding subtle interpretations and a fresh walk through Moore’s music.
URL:https://gerrytully.ie/event/briery-gap/
LOCATION:Briery Gap\, Main Street Macroom\, Cork\, Coork\, Ireland
CATEGORIES:Gerry Tully Sings The Christy Moore Songbook
ATTACH;FMTTYPE=image/jpeg:https://gerrytully.ie/wp-content/uploads/2025/10/IMG_3693-Small.jpeg
ORGANIZER;CN="Little Apples Management":MAILTO:eugene@littleapplesmanagement.com
END:VEVENT
BEGIN:VEVENT
DTSTART;TZID=UTC:20260221T200000
DTEND;TZID=UTC:20260221T223000
DTSTAMP:20260420T205629
CREATED:20251201T102712Z
LAST-MODIFIED:20260209T125338Z
UID:3059-1771704000-1771713000@gerrytully.ie
SUMMARY:The Marine Hotel
DESCRIPTION:When Gerry Tully performs Christy Moore songs\, he brings a deep respect and understanding to the material\, while adding his own unique touch. Christy Moore’s music is iconic in Irish folk\, known for his powerful storytelling\, political edge\, and emotional resonance\, and Gerry Tully honours these qualities in his interpretations. \n\n\n\nTully’s voice is warm and emotive\, lending itself beautifully to Moore’s repertoire. His smooth tone has an aged timbre and plenty of emotional texture in songs like Ride On or The Voyage. His delivery is sincere\, mirroring Moore’s original passion\, allowing the listener to experience the lyrics more intimately.
URL:https://gerrytully.ie/event/the-marine-hotel/
LOCATION:The Marine Hotel\, 1 - 3 North Street\, Ballycastle\, Co. Antrim\, BT54 6BN\, Ireland
CATEGORIES:Gerry Tully Sings The Christy Moore Songbook
ATTACH;FMTTYPE=image/jpeg:https://gerrytully.ie/wp-content/uploads/2025/10/IMG_3693-Small.jpeg
ORGANIZER;CN="ORW Promotions":MAILTO:info@orwpromotions.com
END:VEVENT
BEGIN:VEVENT
DTSTART;TZID=UTC:20260220T200000
DTEND;TZID=UTC:20260220T223000
DTSTAMP:20260420T205629
CREATED:20251201T102015Z
LAST-MODIFIED:20260209T125201Z
UID:3055-1771617600-1771626600@gerrytully.ie
SUMMARY:Down Arts Centre
DESCRIPTION:When Gerry Tully performs Christy Moore songs\, he brings a deep respect and understanding to the material\, while adding his own unique touch. Christy Moore’s music is iconic in Irish folk\, known for his powerful storytelling\, political edge\, and emotional resonance\, and Gerry Tully honours these qualities in his interpretations. \n\n\n\nTully’s voice is warm and emotive\, lending itself beautifully to Moore’s repertoire. His smooth tone has an aged timbre and plenty of emotional texture in songs like Ride On or The Voyage. His delivery is sincere\, mirroring Moore’s original passion\, allowing the listener to experience the lyrics more intimately.
URL:https://gerrytully.ie/event/down-arts-centre/
LOCATION:Down Arts Centre\, 2/6 Irish Street\, Downpatrick\, Co. Down\, BT30 6BP\, Ireland
ATTACH;FMTTYPE=image/jpeg:https://gerrytully.ie/wp-content/uploads/2025/10/IMG_3693-Small.jpeg
ORGANIZER;CN="ORW Promotions":MAILTO:info@orwpromotions.com
END:VEVENT
BEGIN:VEVENT
DTSTART;TZID=UTC:20260214T200000
DTEND;TZID=UTC:20260214T223000
DTSTAMP:20260420T205629
CREATED:20251201T100646Z
LAST-MODIFIED:20260209T125129Z
UID:3051-1771099200-1771108200@gerrytully.ie
SUMMARY:Craic Theatre & Arts\, Coalisland
DESCRIPTION:
URL:https://gerrytully.ie/event/craic-theatre-arts-coalisland/
LOCATION:Craic Theatre & Arts\, Coalisland Enterprise Centre\, Dungannon Road Coalisland\, Tyrone\, BT71 4HP\, Ireland
CATEGORIES:Gerry Tully Sings The Christy Moore Songbook
ATTACH;FMTTYPE=image/jpeg:https://gerrytully.ie/wp-content/uploads/2025/10/IMG_3693-Small.jpeg
ORGANIZER;CN="ORW Promotions":MAILTO:info@orwpromotions.com
END:VEVENT
BEGIN:VEVENT
DTSTART;TZID=UTC:20260213T200000
DTEND;TZID=UTC:20260213T223000
DTSTAMP:20260420T205629
CREATED:20251201T095411Z
LAST-MODIFIED:20260209T125344Z
UID:3043-1771012800-1771021800@gerrytully.ie
SUMMARY:The Wild Duck
DESCRIPTION:Having spent forty years playing and singing\, Gerry Tully has a strong connection with an audience. He shares stories or explains the history behind the lyrics. This adds depth to the performance\, making it not just a musical experience\, but offers some cultural and historical perspective. Gerry’s easygoing stage presence and genuine passion for the songs make the audience feel involved and connected\, whether through a sing-along or simply sitting in quiet reflection. Gerry Tully’s performances of Christy Moore songs are a heartfelt tribute to one of Ireland’s greatest folk artists.
URL:https://gerrytully.ie/event/the-wild-duck/
CATEGORIES:Gerry Tully Sings The Christy Moore Songbook
ATTACH;FMTTYPE=image/jpeg:https://gerrytully.ie/wp-content/uploads/2025/10/IMG_3693-Small.jpeg
ORGANIZER;CN="ORW Promotions":MAILTO:info@orwpromotions.com
END:VEVENT
BEGIN:VEVENT
DTSTART;TZID=UTC:20260206T200000
DTEND;TZID=UTC:20260206T223000
DTSTAMP:20260420T205629
CREATED:20251201T093621Z
LAST-MODIFIED:20260209T125040Z
UID:3038-1770408000-1770417000@gerrytully.ie
SUMMARY:Esker Arts Centre
DESCRIPTION:Having spent forty years playing and singing\, Gerry Tully has a strong connection with an audience. He shares stories or explains the history behind the lyrics. This adds depth to the performance\, making it not just a musical experience\, but offers some cultural and historical perspective. Gerry’s easygoing stage presence and genuine passion for the songs make the audience feel involved and connected\, whether through a sing-along or simply sitting in quiet reflection. Gerry Tully’s performances of Christy Moore songs are a heartfelt tribute to one of Ireland’s greatest folk artists.
URL:https://gerrytully.ie/event/esker-arts-centre/
LOCATION:Esker Arts\, High Street\, Tullamore\, Offaly\, R35NY50\, Ireland
CATEGORIES:Gerry Tully Sings The Christy Moore Songbook
ATTACH;FMTTYPE=image/jpeg:https://gerrytully.ie/wp-content/uploads/2025/10/IMG_3693-Small.jpeg
ORGANIZER;CN="Little Apples Management":MAILTO:eugene@littleapplesmanagement.com
END:VEVENT
BEGIN:VEVENT
DTSTART;TZID=UTC:20260116T200000
DTEND;TZID=UTC:20260116T223000
DTSTAMP:20260420T205629
CREATED:20251201T092142Z
LAST-MODIFIED:20251201T092657Z
UID:3031-1768593600-1768602600@gerrytully.ie
SUMMARY:The Linenhall
DESCRIPTION:Gerry Tully Sings The Christy Moore Songbook
URL:https://gerrytully.ie/event/the-linenhall/
LOCATION:The Linen Hall\, Linenhall Street\, Castlebar\, Co. Mayo\, Ireland
ATTACH;FMTTYPE=image/jpeg:https://gerrytully.ie/wp-content/uploads/2025/10/IMG_3693-Small.jpeg
ORGANIZER;CN="Little Apples Management":MAILTO:eugene@littleapplesmanagement.com
END:VEVENT
BEGIN:VEVENT
DTSTART;TZID=UTC:20251220T200000
DTEND;TZID=UTC:20251220T223000
DTSTAMP:20260420T205629
CREATED:20251024T120118Z
LAST-MODIFIED:20260209T125357Z
UID:2744-1766260800-1766269800@gerrytully.ie
SUMMARY:Brogan's Hotel\, Baker's Loft.
DESCRIPTION:Gerry Tully Sings The Christy Moore Songbook \nTICKETS; https://www.eventbrite.ie/e/gerry-tully-sings-the-christy-moore-songbook-tickets-1815697573319 \nGerry Tully performs Christy Moore songs\, he brings a deep respect and understanding to the material\, while adding his own unique touch. Christy Moore’s music is iconic in Irish folk\, known for his powerful storytelling\, political edge\, and emotional resonance\, and Gerry Tully honours these qualities in his interpretations. Tully’s voice is warm and emotive lending itself beautifully to Moore’s repertoire.
URL:https://gerrytully.ie/event/brogans-hotel-bakers-loft/
LOCATION:Brogan’s Hotel\, High Stree\, Trim\, Meath\, Ireland
CATEGORIES:Gerry Tully Sings The Christy Moore Songbook
ATTACH;FMTTYPE=image/jpeg:https://gerrytully.ie/wp-content/uploads/2025/10/IMG_3693-Small.jpeg
ORGANIZER;CN="Little Apples Management":MAILTO:eugene@littleapplesmanagement.com
END:VEVENT
BEGIN:VEVENT
DTSTART;TZID=UTC:20251213T200000
DTEND;TZID=UTC:20251213T223000
DTSTAMP:20260420T205629
CREATED:20251024T115708Z
LAST-MODIFIED:20251202T144533Z
UID:2740-1765656000-1765665000@gerrytully.ie
SUMMARY:The Four Provinces\, Kimmage
DESCRIPTION:Gerry Tully Sings The Christy Moore Songbook \n  \nTicket Link  \nhttps://www.eventbrite.com/e/gerry-tully-sings-the-christy-moore-songbook-tickets-1967750224893
URL:https://gerrytully.ie/event/the-four-provinces-kimmage/
LOCATION:The Four Provinces\, 25 Ravensdale Park\, Kimmage\, Dublin\, D12X965\, Ireland
CATEGORIES:Gerry Tully Sings The Christy Moore Songbook
ATTACH;FMTTYPE=image/jpeg:https://gerrytully.ie/wp-content/uploads/2025/10/IMG_3693-Small.jpeg
ORGANIZER;CN="Little Apples Management":MAILTO:eugene@littleapplesmanagement.com
END:VEVENT
BEGIN:VEVENT
DTSTART;TZID=UTC:20251121T200000
DTEND;TZID=UTC:20251121T223000
DTSTAMP:20260420T205629
CREATED:20251024T112344Z
LAST-MODIFIED:20251118T120833Z
UID:2732-1763755200-1763764200@gerrytully.ie
SUMMARY:Lucan Comedy Club
DESCRIPTION:Gerry Tully Sings The Christy Moore Songbook \nTICKETS; \nhttps://www.universe.com/events/the-christy-moore-songbook-gerry-tully-lucan-nov-21-tickets-Z2HNGK \nGerry Tully performs Christy Moore songs\, he brings a deep respect and understanding to the material\, while adding his own unique touch. Christy Moore’s music is iconic in Irish folk\, known for his powerful storytelling\, political edge\, and emotional resonance\, and Gerry Tully honours these qualities in his interpretations. Tully’s voice is warm and emotive lending itself beautifully to Moore’s repertoire.
URL:https://gerrytully.ie/event/lucan-comedy-club/
LOCATION:Lucan Comedy Club\, Ireland
CATEGORIES:Gerry Tully Sings The Christy Moore Songbook
ATTACH;FMTTYPE=image/jpeg:https://gerrytully.ie/wp-content/uploads/2025/10/IMG_3693-Small.jpeg
ORGANIZER;CN="Little Apples Management":MAILTO:eugene@littleapplesmanagement.com
END:VEVENT
BEGIN:VEVENT
DTSTART;TZID=UTC:20251120T200000
DTEND;TZID=UTC:20251120T223000
DTSTAMP:20260420T205629
CREATED:20251024T111814Z
LAST-MODIFIED:20251118T120825Z
UID:2726-1763668800-1763677800@gerrytully.ie
SUMMARY:The Garage Theatre
DESCRIPTION:Gerry Tully Sings The Christy Moore Songbook\nTICKETS;  https://garagetheatre.ticketsolve.com/ticketbooth/shows/873671465 \nGerry Tully performs Christy Moore songs\, he brings a deep respect and understanding to the material\, while adding his own unique touch. Christy Moore’s music is iconic in Irish folk\, known for his powerful storytelling\, political edge\, and emotional resonance\, and Gerry Tully honours these qualities in his interpretations. Tully’s voice is warm and emotive lending itself beautifully to Moore’s repertoire.
URL:https://gerrytully.ie/event/gerry-tully-sings-the-christy-moore-songbook/
LOCATION:The Garage Theatre\, Monaghan Education Campus\, Armagh Road\, Monaghan\, Co. Monaghan. Ireland\, Monaghan\, Ireland
CATEGORIES:Gerry Tully Sings The Christy Moore Songbook
ATTACH;FMTTYPE=image/jpeg:https://gerrytully.ie/wp-content/uploads/2025/10/IMG_3693-Small.jpeg
ORGANIZER;CN="Little Apples Management":MAILTO:eugene@littleapplesmanagement.com
END:VEVENT
BEGIN:VEVENT
DTSTART;TZID=UTC:20251115T200000
DTEND;TZID=UTC:20251115T223000
DTSTAMP:20260420T205629
CREATED:20251024T115006Z
LAST-MODIFIED:20260209T125409Z
UID:2736-1763236800-1763245800@gerrytully.ie
SUMMARY:ST. Brigid's Hall\, Tubbercurry
DESCRIPTION:  \nGerry Tully Sings The Christy Moore Songbook \nTICKETS; https://www.eventbrite.com/e/gerry-tully-sings-the-christy-moore-songbook-tickets-1409497347509 \nGerry Tully performs Christy Moore songs\, he brings a deep respect and understanding to the material\, while adding his own unique touch. Christy Moore’s music is iconic in Irish folk\, known for his powerful storytelling\, political edge\, and emotional resonance\, and Gerry Tully honours these qualities in his interpretations. Tully’s voice is warm and emotive lending itself beautifully to Moore’s repertoire.
URL:https://gerrytully.ie/event/st-brigids-hall-tubbercurry/
LOCATION:ST. Brigid’s Hall
CATEGORIES:Gerry Tully Sings The Christy Moore Songbook
ATTACH;FMTTYPE=image/jpeg:https://gerrytully.ie/wp-content/uploads/2025/10/IMG_3693-Small.jpeg
ORGANIZER;CN="Little Apples Management":MAILTO:eugene@littleapplesmanagement.com
END:VEVENT
END:VCALENDAR